BEGIN:VCALENDAR
VERSION:2.0
PRODID:-//Catskill Streams - ECPv6.10.1//NONSGML v1.0//EN
CALSCALE:GREGORIAN
METHOD:PUBLISH
X-WR-CALNAME:Catskill Streams
X-ORIGINAL-URL:https://dev.catskillstreams.org
X-WR-CALDESC:Events for Catskill Streams
REFRESH-INTERVAL;VALUE=DURATION:PT1H
X-Robots-Tag:noindex
X-PUBLISHED-TTL:PT1H
BEGIN:VTIMEZONE
TZID:UTC
BEGIN:STANDARD
TZOFFSETFROM:+0000
TZOFFSETTO:+0000
TZNAME:UTC
DTSTART:20200101T000000
END:STANDARD
END:VTIMEZONE
BEGIN:VEVENT
DTSTART;TZID=UTC:20201004T140000
DTEND;TZID=UTC:20201004T150000
DTSTAMP:20260422T175809
CREATED:20201002T151958Z
LAST-MODIFIED:20201002T151958Z
UID:16777-1601820000-1601823600@dev.catskillstreams.org
SUMMARY:Virtual Geology Stream Hike
DESCRIPTION:Virtual Programming with the Time and the Valleys Museum:\nZoom Webinar: Sunday\, October 4th at 2pm\n\nJoin Haley Springston\, Watershed Planning Coordinator of the Rondout-Neversink Stream Program\, on Zoom\, as we partner with the Time and the Valleys Museum to offer our first-ever\, live-streaming virtual geology stream hike event. RNSP’s Watershed Planning Coordinator\, Haley Springston\, will lead viewers on a virtual geology hike along a Catskill stream\, review the effects of geologic history on present-day streams\, and answer questions from the audience.\n\nParticipants will learn how the Catskill landscape formed nearly 380 million years ago\, how the geologic history of Catskill streams still affects our lives today\, and how the Rondout Neversink Stream Program serves our local streams and communities.\n\nThe event is free. Registration is required. To register email the Museum at: info@timeandthevalleysmuseum.org
URL:https://dev.catskillstreams.org/event/virtual-geology-stream-hike/
CATEGORIES:SMP
END:VEVENT
END:VCALENDAR